BEGIN:VCALENDAR
PRODID:-//WestMichiganBass//Web//EN
VERSION:2.0
METHOD:PUBLISH
BEGIN:VEVENT
DTSTART:20230605T220000Z
DTEND:20230605T220000Z
DTSTAMP:20260423T095959Z
UID:bdb65cb6-511f-4148-b388-58ac0d1b4de9
CREATED:20260423T095959Z
X-ALT-DESC;FMTTYPE=text/html:Muskegon Lake
LAST-MODIFIED:20260423T095959Z
LOCATION:Fisherman's landing is located off of Ottawa street. Take business 31 to Marquete Ave - west on Ottawa and South to ramp.
SEQUENCE:0
STATUS:CONFIRMED
SUMMARY:WMB Tournament: Muskegon Lake (Fishermans Landing)
TRANSP:OPAQUE
END:VEVENT
BEGIN:VEVENT
DTSTART:20230612T220000Z
DTEND:20230612T220000Z
DTSTAMP:20260423T095959Z
UID:e8ee7ac7-2ce3-4873-96d6-e3755dcc1479
CREATED:20260423T095959Z
X-ALT-DESC;FMTTYPE=text/html:White Lake
LAST-MODIFIED:20260423T095959Z
LOCATION:Take business 31 north of town, once you cross the river turn west at the stoplight on Water St.
SEQUENCE:0
STATUS:CONFIRMED
SUMMARY:WMB Tournament: White Lake (Montague)
TRANSP:OPAQUE
END:VEVENT
BEGIN:VEVENT
DTSTART:20230619T220000Z
DTEND:20230619T220000Z
DTSTAMP:20260423T095959Z
UID:8e657ccd-cff2-464c-ad02-11b58cc7af40
CREATED:20260423T095959Z
X-ALT-DESC;FMTTYPE=text/html:Grand River
LAST-MODIFIED:20260423T095959Z
LOCATION:Spring Lake, School St south of M104
SEQUENCE:0
STATUS:CONFIRMED
SUMMARY:WMB Tournament: Grand River (Mill Point)
TRANSP:OPAQUE
END:VEVENT
BEGIN:VEVENT
DTSTART:20230626T220000Z
DTEND:20230626T220000Z
DTSTAMP:20260423T095959Z
UID:51f77480-7ad9-47d0-b17e-2f4cdb546c68
CREATED:20260423T095959Z
X-ALT-DESC;FMTTYPE=text/html:Muskegon Lake
LAST-MODIFIED:20260423T095959Z
LOCATION:Fisherman's landing is located off of Ottawa street. Take business 31 to Marquete Ave - west on Ottawa and South to ramp.
SEQUENCE:0
STATUS:CONFIRMED
SUMMARY:WMB Tournament: Muskegon Lake (Fishermans Landing)
TRANSP:OPAQUE
END:VEVENT
BEGIN:VEVENT
DTSTART:20230703T220000Z
DTEND:20230703T220000Z
DTSTAMP:20260423T095959Z
UID:eb28b819-e91d-4d62-aa52-c97e976896bf
CREATED:20260423T095959Z
X-ALT-DESC;FMTTYPE=text/html:White Lake
LAST-MODIFIED:20260423T095959Z
LOCATION:Take business 31 north of town, once you cross the river turn west at the stoplight on Water St.
SEQUENCE:0
STATUS:CONFIRMED
SUMMARY:WMB Tournament: White Lake (Montague)
TRANSP:OPAQUE
END:VEVENT
BEGIN:VEVENT
DTSTART:20230710T220000Z
DTEND:20230710T220000Z
DTSTAMP:20260423T095959Z
UID:ab4214a7-7523-4614-8995-02beb796adb4
CREATED:20260423T095959Z
X-ALT-DESC;FMTTYPE=text/html:Grand River
LAST-MODIFIED:20260423T095959Z
LOCATION:Spring Lake, School St south of M104
SEQUENCE:0
STATUS:CONFIRMED
SUMMARY:WMB Tournament: Grand River (Mill Point)
TRANSP:OPAQUE
END:VEVENT
BEGIN:VEVENT
DTSTART:20230717T220000Z
DTEND:20230717T220000Z
DTSTAMP:20260423T095959Z
UID:e10412c4-d9ce-45d2-a3f8-70268a06aca7
CREATED:20260423T095959Z
X-ALT-DESC;FMTTYPE=text/html:White Lake
LAST-MODIFIED:20260423T095959Z
LOCATION:Take business 31 north of town, once you cross the river turn west at the stoplight on Water St.
SEQUENCE:0
STATUS:CONFIRMED
SUMMARY:WMB Tournament: White Lake (Montague)
TRANSP:OPAQUE
END:VEVENT
BEGIN:VEVENT
DTSTART:20230724T220000Z
DTEND:20230724T220000Z
DTSTAMP:20260423T095959Z
UID:ef6962dc-b887-4862-8b76-8cac95f874eb
CREATED:20260423T095959Z
X-ALT-DESC;FMTTYPE=text/html:Muskegon Lake
LAST-MODIFIED:20260423T095959Z
LOCATION:Fisherman's landing is located off of Ottawa street. Take business 31 to Marquete Ave - west on Ottawa and South to ramp.
SEQUENCE:0
STATUS:CONFIRMED
SUMMARY:WMB Tournament: Muskegon Lake (Fishermans Landing)
TRANSP:OPAQUE
END:VEVENT
BEGIN:VEVENT
DTSTART:20230731T220000Z
DTEND:20230731T220000Z
DTSTAMP:20260423T095959Z
UID:cfdeec41-8e04-4134-bee8-08271e244624
CREATED:20260423T095959Z
X-ALT-DESC;FMTTYPE=text/html:Grand River
LAST-MODIFIED:20260423T095959Z
LOCATION:Spring Lake, School St south of M104
SEQUENCE:0
STATUS:CONFIRMED
SUMMARY:WMB Tournament: Grand River (Mill Point)
TRANSP:OPAQUE
END:VEVENT
BEGIN:VEVENT
DTSTART:20230807T220000Z
DTEND:20230807T220000Z
DTSTAMP:20260423T095959Z
UID:7747cf85-7cce-4b05-bc51-65d66015c9d7
CREATED:20260423T095959Z
X-ALT-DESC;FMTTYPE=text/html:Muskegon Lake
LAST-MODIFIED:20260423T095959Z
LOCATION:Fisherman's landing is located off of Ottawa street. Take business 31 to Marquete Ave - west on Ottawa and South to ramp.
SEQUENCE:0
STATUS:CONFIRMED
SUMMARY:WMB Tournament: Muskegon Lake (Fishermans Landing)
TRANSP:OPAQUE
END:VEVENT
BEGIN:VEVENT
DTSTART:20230814T220000Z
DTEND:20230814T220000Z
DTSTAMP:20260423T095959Z
UID:ff6261cc-9057-443e-9d3a-5851360b4220
CREATED:20260423T095959Z
X-ALT-DESC;FMTTYPE=text/html:White Lake
LAST-MODIFIED:20260423T095959Z
LOCATION:Take business 31 north of town, once you cross the river turn west at the stoplight on Water St.
SEQUENCE:0
STATUS:CONFIRMED
SUMMARY:WMB Tournament: White Lake (Montague)
TRANSP:OPAQUE
END:VEVENT
BEGIN:VEVENT
DTSTART:20230821T220000Z
DTEND:20230821T220000Z
DTSTAMP:20260423T095959Z
UID:509989a7-d0a8-481b-88c9-b190577e9ce5
CREATED:20260423T095959Z
X-ALT-DESC;FMTTYPE=text/html:Muskegon Lake
LAST-MODIFIED:20260423T095959Z
LOCATION:Fisherman's landing is located off of Ottawa street. Take business 31 to Marquete Ave - west on Ottawa and South to ramp.
SEQUENCE:0
STATUS:CONFIRMED
SUMMARY:WMB Tournament: Muskegon Lake (Fishermans Landing)
TRANSP:OPAQUE
END:VEVENT
END:VCALENDAR
