BEGIN:VCALENDAR
PRODID:-//WestMichiganBass//Web//EN
VERSION:2.0
METHOD:PUBLISH
BEGIN:VEVENT
DTSTART:20220607T110000Z
DTEND:20220607T110000Z
DTSTAMP:20260422T011157Z
UID:ca7d778a-961d-4119-bb35-863b441aa6dd
CREATED:20260422T011157Z
X-ALT-DESC;FMTTYPE=text/html:Mona Lake
LAST-MODIFIED:20260422T011157Z
LOCATION:Mona Lake Park and Boat Launch is located on the north side of the lake off of Lake Shore Blvd.
SEQUENCE:0
STATUS:CONFIRMED
SUMMARY:WMB Tournament: Mona Lake (City Launch)
TRANSP:OPAQUE
END:VEVENT
BEGIN:VEVENT
DTSTART:20220614T110000Z
DTEND:20220614T110000Z
DTSTAMP:20260422T011157Z
UID:4126d76b-e1c1-424a-aff3-b8901286ae25
CREATED:20260422T011157Z
X-ALT-DESC;FMTTYPE=text/html:Spring Lake
LAST-MODIFIED:20260422T011157Z
LOCATION:The ramp is the township ramp located on fruitport road just south of the bridge over the bayou.
SEQUENCE:0
STATUS:CONFIRMED
SUMMARY:WMB Tournament: Spring Lake - Pettys Bayou
TRANSP:OPAQUE
END:VEVENT
BEGIN:VEVENT
DTSTART:20220621T110000Z
DTEND:20220621T110000Z
DTSTAMP:20260422T011157Z
UID:eac1b735-516b-4756-a7f0-3ca5c2763c88
CREATED:20260422T011157Z
X-ALT-DESC;FMTTYPE=text/html:Mona Lake
LAST-MODIFIED:20260422T011157Z
LOCATION:Mona Lake Park and Boat Launch is located on the north side of the lake off of Lake Shore Blvd.
SEQUENCE:0
STATUS:CONFIRMED
SUMMARY:WMB Tournament: Mona Lake (City Launch)
TRANSP:OPAQUE
END:VEVENT
BEGIN:VEVENT
DTSTART:20220628T110000Z
DTEND:20220628T110000Z
DTSTAMP:20260422T011157Z
UID:7d106422-bbf2-4dcc-8b1c-ca34cc36f8ec
CREATED:20260422T011157Z
X-ALT-DESC;FMTTYPE=text/html:Kalamazoo River
LAST-MODIFIED:20260422T011157Z
LOCATION:
SEQUENCE:0
STATUS:CONFIRMED
SUMMARY:WMB Tournament: Kalamazoo River (Schultz Park)
TRANSP:OPAQUE
END:VEVENT
BEGIN:VEVENT
DTSTART:20220705T110000Z
DTEND:20220705T110000Z
DTSTAMP:20260422T011157Z
UID:92fc6620-4c5f-4aa6-a3dd-5c0d7673bdc8
CREATED:20260422T011157Z
X-ALT-DESC;FMTTYPE=text/html:Lake Macatawa 
LAST-MODIFIED:20260422T011157Z
LOCATION:Dunton Park is located on the NE corner of the lake. West of N River Ave off of Howard Ave.
SEQUENCE:0
STATUS:CONFIRMED
SUMMARY:WMB Tournament: Lake Macatawa (Dunton Park)
TRANSP:OPAQUE
END:VEVENT
BEGIN:VEVENT
DTSTART:20220712T110000Z
DTEND:20220712T110000Z
DTSTAMP:20260422T011157Z
UID:8f6a5247-97e2-4c07-a633-3fec3cc5b742
CREATED:20260422T011157Z
X-ALT-DESC;FMTTYPE=text/html:Spring Lake
LAST-MODIFIED:20260422T011157Z
LOCATION:The ramp is the township ramp located on fruitport road just south of the bridge over the bayou.
SEQUENCE:0
STATUS:CONFIRMED
SUMMARY:WMB Tournament: Spring Lake - Pettys Bayou
TRANSP:OPAQUE
END:VEVENT
BEGIN:VEVENT
DTSTART:20220719T110000Z
DTEND:20220719T110000Z
DTSTAMP:20260422T011157Z
UID:dd3aa5fc-617f-47e4-ae0f-bfa188a5e21c
CREATED:20260422T011157Z
X-ALT-DESC;FMTTYPE=text/html:Lake Macatawa 
LAST-MODIFIED:20260422T011157Z
LOCATION:Dunton Park is located on the NE corner of the lake. West of N River Ave off of Howard Ave.
SEQUENCE:0
STATUS:CONFIRMED
SUMMARY:WMB Tournament: Lake Macatawa (Dunton Park)
TRANSP:OPAQUE
END:VEVENT
BEGIN:VEVENT
DTSTART:20220726T110000Z
DTEND:20220726T110000Z
DTSTAMP:20260422T011157Z
UID:c91bc765-e441-4747-829d-86db4715a7d4
CREATED:20260422T011157Z
X-ALT-DESC;FMTTYPE=text/html:Muskegon Lake
LAST-MODIFIED:20260422T011157Z
LOCATION:Fisherman's landing is located off of Ottawa street. Take business 31 to Marquete Ave - west on Ottawa and South to ramp.
SEQUENCE:0
STATUS:CONFIRMED
SUMMARY:WMB Tournament: Muskegon Lake (Fishermans Landing)
TRANSP:OPAQUE
END:VEVENT
BEGIN:VEVENT
DTSTART:20220802T110000Z
DTEND:20220802T110000Z
DTSTAMP:20260422T011157Z
UID:6825c355-429c-4158-bbf9-79b863cfbfaf
CREATED:20260422T011157Z
X-ALT-DESC;FMTTYPE=text/html:Grand River
LAST-MODIFIED:20260422T011157Z
LOCATION:From Lake Michigan Drive - take 144th street north directly to ramp.
From 96 - take 68th Street south from the coopersville exit. Head west on Warner, continue NW on Bass Dr. Continue west on Osborn - turn west on Lincoln and finally North on 144th st.
SEQUENCE:0
STATUS:CONFIRMED
SUMMARY:WMB Tournament: Grand River (144th St  Stearns)
TRANSP:OPAQUE
END:VEVENT
BEGIN:VEVENT
DTSTART:20220809T110000Z
DTEND:20220809T110000Z
DTSTAMP:20260422T011157Z
UID:b1db034a-7c52-419e-aaba-31c7b9a01e44
CREATED:20260422T011157Z
X-ALT-DESC;FMTTYPE=text/html:White Lake
LAST-MODIFIED:20260422T011157Z
LOCATION:Take business 31 north of town, once you cross the river turn west at the stoplight on Water St.
SEQUENCE:0
STATUS:CONFIRMED
SUMMARY:WMB Tournament: White Lake (Montague)
TRANSP:OPAQUE
END:VEVENT
BEGIN:VEVENT
DTSTART:20220816T110000Z
DTEND:20220816T110000Z
DTSTAMP:20260422T011157Z
UID:1a36c1f8-6c71-4e6e-b35b-eddf26efa4fe
CREATED:20260422T011157Z
X-ALT-DESC;FMTTYPE=text/html:Muskegon Lake
LAST-MODIFIED:20260422T011157Z
LOCATION:Fisherman's landing is located off of Ottawa street. Take business 31 to Marquete Ave - west on Ottawa and South to ramp.
SEQUENCE:0
STATUS:CONFIRMED
SUMMARY:WMB Tournament: Muskegon Lake (Fishermans Landing)
TRANSP:OPAQUE
END:VEVENT
BEGIN:VEVENT
DTSTART:20220823T110000Z
DTEND:20220823T110000Z
DTSTAMP:20260422T011157Z
UID:22ff5c91-7858-4f03-8967-0a841e1ea102
CREATED:20260422T011157Z
X-ALT-DESC;FMTTYPE=text/html:White Lake
LAST-MODIFIED:20260422T011157Z
LOCATION:Take business 31 north of town, once you cross the river turn west at the stoplight on Water St.
SEQUENCE:0
STATUS:CONFIRMED
SUMMARY:WMB Tournament: White Lake (Montague)
TRANSP:OPAQUE
END:VEVENT
BEGIN:VEVENT
DTSTART:20220830T110000Z
DTEND:20220830T110000Z
DTSTAMP:20260422T011157Z
UID:534ee35f-c189-444e-abbd-2b3c1563e39f
CREATED:20260422T011157Z
X-ALT-DESC;FMTTYPE=text/html:Classic TBD
LAST-MODIFIED:20260422T011157Z
LOCATION:Lake yet to be determined. Please consult director prior to tournament if this event has not yet been updated.
SEQUENCE:0
STATUS:CONFIRMED
SUMMARY:WMB Tournament: TBD
TRANSP:OPAQUE
END:VEVENT
END:VCALENDAR
