BEGIN:VCALENDAR
PRODID:-//WestMichiganBass//Web//EN
VERSION:2.0
METHOD:PUBLISH
BEGIN:VEVENT
DTSTART:20220924T110000Z
DTEND:20220924T110000Z
DTSTAMP:20260423T103130Z
UID:fa23400a-30c1-4b6d-9a29-a82bc5a77b4a
CREATED:20260423T103130Z
X-ALT-DESC;FMTTYPE=text/html:Day 1
LAST-MODIFIED:20260423T103130Z
LOCATION:Charlevoix Municipal Launch

Located south of downtown Charlevoix.  Take Stover Rd east or Ferry Ave north off of M-66.
SEQUENCE:0
STATUS:CONFIRMED
SUMMARY:WMB Tournament: Lake Charlevoix (Municipal Launch)
TRANSP:OPAQUE
END:VEVENT
BEGIN:VEVENT
DTSTART:20220925T110000Z
DTEND:20220925T110000Z
DTSTAMP:20260423T103130Z
UID:686c4022-3d49-4542-8610-bbe0b4077970
CREATED:20260423T103130Z
X-ALT-DESC;FMTTYPE=text/html:Day 2
LAST-MODIFIED:20260423T103130Z
LOCATION:Charlevoix Municipal Launch

Located south of downtown Charlevoix.  Take Stover Rd east or Ferry Ave north off of M-66.
SEQUENCE:0
STATUS:CONFIRMED
SUMMARY:WMB Tournament: Lake Charlevoix (Municipal Launch)
TRANSP:OPAQUE
END:VEVENT
END:VCALENDAR
