BEGIN:VCALENDAR
PRODID:-//WestMichiganBass//Web//EN
VERSION:2.0
METHOD:PUBLISH
BEGIN:VEVENT
DTSTART:20210619T110000Z
DTEND:20210619T110000Z
DTSTAMP:20260422T105848Z
UID:bda546cb-724a-40fd-8a9b-ba3c611dd8a5
CREATED:20260422T105848Z
X-ALT-DESC;FMTTYPE=text/html:White Lake - Montague
LAST-MODIFIED:20260422T105848Z
LOCATION:Take business 31 north of town, once you cross the river turn west at the stoplight on Water St.
SEQUENCE:0
STATUS:CONFIRMED
SUMMARY:WMB Tournament: White Lake (Montague)
TRANSP:OPAQUE
END:VEVENT
BEGIN:VEVENT
DTSTART:20210626T110000Z
DTEND:20210626T110000Z
DTSTAMP:20260422T105848Z
UID:4a17eb81-66bf-4bc4-8a9a-f431758aee1d
CREATED:20260422T105848Z
X-ALT-DESC;FMTTYPE=text/html:Mona Lake near Muskegon
LAST-MODIFIED:20260422T105848Z
LOCATION:Mona Lake Park and Boat Launch is located on the north side of the lake off of Lake Shore Blvd.
SEQUENCE:0
STATUS:CONFIRMED
SUMMARY:WMB Tournament: Mona Lake (City Launch)
TRANSP:OPAQUE
END:VEVENT
BEGIN:VEVENT
DTSTART:20210710T110000Z
DTEND:20210710T110000Z
DTSTAMP:20260422T105848Z
UID:11313ccf-160a-4b7f-8bea-b6dd67f58f8e
CREATED:20260422T105848Z
X-ALT-DESC;FMTTYPE=text/html:Hardy Pond - Sandy Beach
LAST-MODIFIED:20260422T105848Z
LOCATION:From Grand Rapids

Take US 131 North to Exit 125 Jefferson Rd.  Travel West on Jefferson Rd, becomes S Croton Hardy Dr., Turn right E 40th St (road over the dam),  Turn North on S Elm Ave, Turn East on E 30th St, street ends at park.

6926 E 30th St
White Cloud, MI 49349
SEQUENCE:0
STATUS:CONFIRMED
SUMMARY:WMB Tournament: Hardy Dam Pond (Sandy Beach)
TRANSP:OPAQUE
END:VEVENT
BEGIN:VEVENT
DTSTART:20210724T110000Z
DTEND:20210724T110000Z
DTSTAMP:20260422T105848Z
UID:2f18db5e-1475-4114-8ce2-90128c27770f
CREATED:20260422T105848Z
X-ALT-DESC;FMTTYPE=text/html:Muskegon Lake - Fisherman's Landing
LAST-MODIFIED:20260422T105848Z
LOCATION:Fisherman's landing is located off of Ottawa street. Take business 31 to Marquete Ave - west on Ottawa and South to ramp.
SEQUENCE:0
STATUS:CONFIRMED
SUMMARY:WMB Tournament: Muskegon Lake (Fishermans Landing)
TRANSP:OPAQUE
END:VEVENT
BEGIN:VEVENT
DTSTART:20210814T110000Z
DTEND:20210814T110000Z
DTSTAMP:20260422T105848Z
UID:94644e29-df67-4d6e-aaee-3ce249d544d7
CREATED:20260422T105848Z
X-ALT-DESC;FMTTYPE=text/html:Skeg, Elk, Torch chain - Skeg Launch

LAST-MODIFIED:20260422T105848Z
LOCATION:
SEQUENCE:0
STATUS:CONFIRMED
SUMMARY:WMB Tournament: Lake Skegemog
TRANSP:OPAQUE
END:VEVENT
END:VCALENDAR
