BEGIN:VCALENDAR
PRODID:-//WestMichiganBass//Web//EN
VERSION:2.0
METHOD:PUBLISH
BEGIN:VEVENT
DTSTART:20210602T220000Z
DTEND:20210602T220000Z
DTSTAMP:20260423T200759Z
UID:29cf3a7f-8102-4b24-9d25-5698250cd5d2
CREATED:20260423T200759Z
X-ALT-DESC;FMTTYPE=text/html:Gun Lake
LAST-MODIFIED:20260423T200759Z
LOCATION:Take co rd 42 (M179 / 129th ave) East to Briggs Rd S. Enter state park, ramp is at very end of park. Parking/Launch fee or State Park Sticker required.
SEQUENCE:0
STATUS:CONFIRMED
SUMMARY:WMB Tournament: Gun Lake (State Park Ramp)
TRANSP:OPAQUE
END:VEVENT
BEGIN:VEVENT
DTSTART:20210609T220000Z
DTEND:20210609T220000Z
DTSTAMP:20260423T200759Z
UID:0c88d1e1-93ce-41eb-b5b7-151e704783b7
CREATED:20260423T200759Z
X-ALT-DESC;FMTTYPE=text/html:Kalamazoo River
LAST-MODIFIED:20260423T200759Z
LOCATION:
SEQUENCE:0
STATUS:CONFIRMED
SUMMARY:WMB Tournament: Kalamazoo River (Schultz Park)
TRANSP:OPAQUE
END:VEVENT
BEGIN:VEVENT
DTSTART:20210616T220000Z
DTEND:20210616T220000Z
DTSTAMP:20260423T200759Z
UID:4a4e7590-1cdb-4463-901c-c04b7b87fb13
CREATED:20260423T200759Z
X-ALT-DESC;FMTTYPE=text/html:Gull Lake
LAST-MODIFIED:20260423T200759Z
LOCATION:
SEQUENCE:0
STATUS:CONFIRMED
SUMMARY:WMB Tournament: Gull Lake (Praireville Twp Launch)
TRANSP:OPAQUE
END:VEVENT
BEGIN:VEVENT
DTSTART:20210630T220000Z
DTEND:20210630T220000Z
DTSTAMP:20260423T200759Z
UID:b7ee5173-2977-419b-87ea-44d4c0dd6a45
CREATED:20260423T200759Z
X-ALT-DESC;FMTTYPE=text/html:Kalamazoo River
LAST-MODIFIED:20260423T200759Z
LOCATION:
SEQUENCE:0
STATUS:CONFIRMED
SUMMARY:WMB Tournament: Kalamazoo River (Schultz Park)
TRANSP:OPAQUE
END:VEVENT
BEGIN:VEVENT
DTSTART:20210623T220000Z
DTEND:20210623T220000Z
DTSTAMP:20260423T200759Z
UID:d4d2ad21-45ac-4814-89e4-4fb036b360cd
CREATED:20260423T200759Z
X-ALT-DESC;FMTTYPE=text/html:Upper Crooked
LAST-MODIFIED:20260423T200759Z
LOCATION:Upper Crooked lake is located just west of M43 in Barry Co.
SEQUENCE:0
STATUS:CONFIRMED
SUMMARY:WMB Tournament: Upper Crooked Lake
TRANSP:OPAQUE
END:VEVENT
BEGIN:VEVENT
DTSTART:20210707T220000Z
DTEND:20210707T220000Z
DTSTAMP:20260423T200759Z
UID:2164babe-b751-4a0c-88bb-26b86ee7c477
CREATED:20260423T200759Z
X-ALT-DESC;FMTTYPE=text/html:Gun Lake
LAST-MODIFIED:20260423T200759Z
LOCATION:Take co rd 42 (M179 / 129th ave) East to Briggs Rd S. Enter state park, ramp is at very end of park. Parking/Launch fee or State Park Sticker required.
SEQUENCE:0
STATUS:CONFIRMED
SUMMARY:WMB Tournament: Gun Lake (State Park Ramp)
TRANSP:OPAQUE
END:VEVENT
BEGIN:VEVENT
DTSTART:20210714T220000Z
DTEND:20210714T220000Z
DTSTAMP:20260423T200759Z
UID:7666e40a-d4cf-4d94-926f-3a47b827b812
CREATED:20260423T200759Z
X-ALT-DESC;FMTTYPE=text/html:Gull Lake
LAST-MODIFIED:20260423T200759Z
LOCATION:
SEQUENCE:0
STATUS:CONFIRMED
SUMMARY:WMB Tournament: Gull Lake (Praireville Twp Launch)
TRANSP:OPAQUE
END:VEVENT
BEGIN:VEVENT
DTSTART:20210721T220000Z
DTEND:20210721T220000Z
DTSTAMP:20260423T200759Z
UID:4b2604cb-b3c4-4a8d-a056-1ba25c003f9c
CREATED:20260423T200759Z
X-ALT-DESC;FMTTYPE=text/html:Upper Crooked Lake
LAST-MODIFIED:20260423T200759Z
LOCATION:Upper Crooked lake is located just west of M43 in Barry Co.
SEQUENCE:0
STATUS:CONFIRMED
SUMMARY:WMB Tournament: Upper Crooked Lake
TRANSP:OPAQUE
END:VEVENT
BEGIN:VEVENT
DTSTART:20210728T220000Z
DTEND:20210728T220000Z
DTSTAMP:20260423T200759Z
UID:d48b9b16-1fea-4942-b55e-e72f05d8277d
CREATED:20260423T200759Z
X-ALT-DESC;FMTTYPE=text/html:Kalamazoo River
LAST-MODIFIED:20260423T200759Z
LOCATION:
SEQUENCE:0
STATUS:CONFIRMED
SUMMARY:WMB Tournament: Kalamazoo River (Schultz Park)
TRANSP:OPAQUE
END:VEVENT
BEGIN:VEVENT
DTSTART:20210804T220000Z
DTEND:20210804T220000Z
DTSTAMP:20260423T200759Z
UID:70c08b31-546f-429a-8655-246ca109fd8c
CREATED:20260423T200759Z
X-ALT-DESC;FMTTYPE=text/html:Gun Lake
LAST-MODIFIED:20260423T200759Z
LOCATION:Take co rd 42 (M179 / 129th ave) East to Briggs Rd S. Enter state park, ramp is at very end of park. Parking/Launch fee or State Park Sticker required.
SEQUENCE:0
STATUS:CONFIRMED
SUMMARY:WMB Tournament: Gun Lake (State Park Ramp)
TRANSP:OPAQUE
END:VEVENT
BEGIN:VEVENT
DTSTART:20210811T220000Z
DTEND:20210811T220000Z
DTSTAMP:20260423T200759Z
UID:61603260-faff-4b8b-88bc-e0ed687869e8
CREATED:20260423T200759Z
X-ALT-DESC;FMTTYPE=text/html:Pine Lake
LAST-MODIFIED:20260423T200759Z
LOCATION:
SEQUENCE:0
STATUS:CONFIRMED
SUMMARY:WMB Tournament: Pine Lake
TRANSP:OPAQUE
END:VEVENT
BEGIN:VEVENT
DTSTART:20210818T220000Z
DTEND:20210818T220000Z
DTSTAMP:20260423T200759Z
UID:9a2f0ff4-75a6-4a6f-a9fd-8db3b878a082
CREATED:20260423T200759Z
X-ALT-DESC;FMTTYPE=text/html:Kalamazoo River
LAST-MODIFIED:20260423T200759Z
LOCATION:
SEQUENCE:0
STATUS:CONFIRMED
SUMMARY:WMB Tournament: Kalamazoo River (Schultz Park)
TRANSP:OPAQUE
END:VEVENT
END:VCALENDAR
