BEGIN:VCALENDAR
PRODID:-//WestMichiganBass//Web//EN
VERSION:2.0
METHOD:PUBLISH
BEGIN:VEVENT
DTSTART:20190602T110000Z
DTEND:20190602T110000Z
DTSTAMP:20260423T101408Z
UID:b7daaa66-aa24-40af-9a6d-090bbde56e04
CREATED:20260423T101408Z
X-ALT-DESC;FMTTYPE=text/html:Croton Pond
LAST-MODIFIED:20260423T101408Z
LOCATION:Take Swan Ave North off of Croton Dr
Located at Swan Ave and E 64th St right at The Croton Dam
SEQUENCE:0
STATUS:CONFIRMED
SUMMARY:WMB Tournament: Croton Pond
TRANSP:OPAQUE
END:VEVENT
BEGIN:VEVENT
DTSTART:20190609T110000Z
DTEND:20190609T110000Z
DTSTAMP:20260423T101408Z
UID:353140a0-45b5-4694-8e8e-f156bd4a6340
CREATED:20260423T101408Z
X-ALT-DESC;FMTTYPE=text/html:Hardy Pond
LAST-MODIFIED:20260423T101408Z
LOCATION:From US-131 - take exit 131 and head West on M-20. Turn Left at the gas station and follow signs to brower park. Ramp Fees may apply. Anglers are welcome to launch at the the county park and drive to the launch site by water.
SEQUENCE:0
STATUS:CONFIRMED
SUMMARY:WMB Tournament: Hardy Dam Pond (Brower Park)
TRANSP:OPAQUE
END:VEVENT
BEGIN:VEVENT
DTSTART:20190714T110000Z
DTEND:20190714T110000Z
DTSTAMP:20260423T101408Z
UID:f5fb446d-7ae7-457b-9815-4f3baab6b884
CREATED:20260423T101408Z
X-ALT-DESC;FMTTYPE=text/html:Fremont Lake
LAST-MODIFIED:20260423T101408Z
LOCATION:Fremont lake is locate off of M-82 directly south of the town of Fremont. Take M82 to W 64th St. The ramp is on the north side of the road in the township park.
SEQUENCE:0
STATUS:CONFIRMED
SUMMARY:WMB Tournament: Fremont Lake (South Launch)
TRANSP:OPAQUE
END:VEVENT
BEGIN:VEVENT
DTSTART:20190728T110000Z
DTEND:20190728T110000Z
DTSTAMP:20260423T101408Z
UID:681410c3-bc9d-4b8f-b784-3a0d0f03e04d
CREATED:20260423T101408Z
X-ALT-DESC;FMTTYPE=text/html:Cadillac / Mitchell
LAST-MODIFIED:20260423T101408Z
LOCATION:Take 115 north to North Blvd right at the channel.
SEQUENCE:0
STATUS:CONFIRMED
SUMMARY:WMB Tournament: Lake Cadillac (Kenwood Launch)
TRANSP:OPAQUE
END:VEVENT
BEGIN:VEVENT
DTSTART:20190811T110000Z
DTEND:20190811T110000Z
DTSTAMP:20260423T101408Z
UID:8df1e493-ab0c-46fc-a4b7-29e796a98dc0
CREATED:20260423T101408Z
X-ALT-DESC;FMTTYPE=text/html:Chippewa Lake
LAST-MODIFIED:20260423T101408Z
LOCATION:Located East of Big Rapids, follow Chippewa Drive to launch located on NE side of lake.
SEQUENCE:0
STATUS:CONFIRMED
SUMMARY:WMB Tournament: Chippewa Lake
TRANSP:OPAQUE
END:VEVENT
BEGIN:VEVENT
DTSTART:20190825T110000Z
DTEND:20190825T110000Z
DTSTAMP:20260423T101408Z
UID:712c52da-0e3e-4b32-a6fb-97fd8627f8fe
CREATED:20260423T101408Z
X-ALT-DESC;FMTTYPE=text/html:Diamond Lake
LAST-MODIFIED:20260423T101408Z
LOCATION:Follow M-37 North of White Cloud, to W Foss Ave South.  Follow W Foss to Mundy Ave, take Mundy Ave North launch.
SEQUENCE:0
STATUS:CONFIRMED
SUMMARY:WMB Tournament: Diamond Lake
TRANSP:OPAQUE
END:VEVENT
END:VCALENDAR
