BEGIN:VCALENDAR
PRODID:-//WestMichiganBass//Web//EN
VERSION:2.0
METHOD:PUBLISH
BEGIN:VEVENT
DTSTART:20180603T110000Z
DTEND:20180603T110000Z
DTSTAMP:20260423T101541Z
UID:59d4dbfe-c85c-45a1-b015-3529899bd00a
CREATED:20260423T101541Z
X-ALT-DESC;FMTTYPE=text/html:Croton Pond
LAST-MODIFIED:20260423T101541Z
LOCATION:Take Swan Ave North off of Croton Dr
Located at Swan Ave and E 64th St right at The Croton Dam
SEQUENCE:0
STATUS:CONFIRMED
SUMMARY:WMB Tournament: Croton Pond
TRANSP:OPAQUE
END:VEVENT
BEGIN:VEVENT
DTSTART:20180610T110000Z
DTEND:20180610T110000Z
DTSTAMP:20260423T101541Z
UID:1d507395-43b3-4dc0-993a-de6e1814efb5
CREATED:20260423T101541Z
X-ALT-DESC;FMTTYPE=text/html:Chippewa Lake
LAST-MODIFIED:20260423T101541Z
LOCATION:Located East of Big Rapids, follow Chippewa Drive to launch located on NE side of lake.
SEQUENCE:0
STATUS:CONFIRMED
SUMMARY:WMB Tournament: Chippewa Lake
TRANSP:OPAQUE
END:VEVENT
BEGIN:VEVENT
DTSTART:20180722T110000Z
DTEND:20180722T110000Z
DTSTAMP:20260423T101541Z
UID:7905d954-f772-4656-aa5a-6615810d8824
CREATED:20260423T101541Z
X-ALT-DESC;FMTTYPE=text/html:Cadillac / Mitchell
LAST-MODIFIED:20260423T101541Z
LOCATION:Take 115 north to North Blvd right at the channel.
SEQUENCE:0
STATUS:CONFIRMED
SUMMARY:WMB Tournament: Lake Cadillac (Kenwood Launch)
TRANSP:OPAQUE
END:VEVENT
BEGIN:VEVENT
DTSTART:20180805T110000Z
DTEND:20180805T110000Z
DTSTAMP:20260423T101541Z
UID:3f0e72e0-43e2-4abf-93d8-8718bc10134c
CREATED:20260423T101541Z
X-ALT-DESC;FMTTYPE=text/html:Lake Mecosta
LAST-MODIFIED:20260423T101541Z
LOCATION:From Stanwood: Take 8 Mile Rd East, then 155th Ave North, then Buchanan Rd East to 105th Ave North.  Turn East on Lake Dr / St Ives Dr, boat launch immediately on Left.
SEQUENCE:0
STATUS:CONFIRMED
SUMMARY:WMB Tournament: Lake Mecosta
TRANSP:OPAQUE
END:VEVENT
BEGIN:VEVENT
DTSTART:20180826T110000Z
DTEND:20180826T110000Z
DTSTAMP:20260423T101541Z
UID:218c7866-8379-49bc-8fa5-d2848856ef28
CREATED:20260423T101541Z
X-ALT-DESC;FMTTYPE=text/html:Hardy Pond
LAST-MODIFIED:20260423T101541Z
LOCATION:From US-131 - take exit 131 and head West on M-20. Turn Left at the gas station and follow signs to brower park. Ramp Fees may apply. Anglers are welcome to launch at the the county park and drive to the launch site by water.
SEQUENCE:0
STATUS:CONFIRMED
SUMMARY:WMB Tournament: Hardy Dam Pond (Brower Park)
TRANSP:OPAQUE
END:VEVENT
BEGIN:VEVENT
DTSTART:20180715T110000Z
DTEND:20180715T110000Z
DTSTAMP:20260423T101541Z
UID:e20ab1c2-8a55-4f23-b633-1a840839d622
CREATED:20260423T101541Z
X-ALT-DESC;FMTTYPE=text/html:Martini Chain
LAST-MODIFIED:20260423T101541Z
LOCATION:
SEQUENCE:0
STATUS:CONFIRMED
SUMMARY:WMB Tournament: Martiny Chain (Lower Evans)
TRANSP:OPAQUE
END:VEVENT
END:VCALENDAR
