BEGIN:VCALENDAR
PRODID:-//WestMichiganBass//Web//EN
VERSION:2.0
METHOD:PUBLISH
BEGIN:VEVENT
DTSTART:20170705T220000Z
DTEND:20170705T220000Z
DTSTAMP:20260423T090935Z
UID:4313435f-361f-4bc0-8d2d-3e6ebb61f233
CREATED:20260423T090935Z
X-ALT-DESC;FMTTYPE=text/html:Grand Traverse Bay - East
LAST-MODIFIED:20260423T090935Z
LOCATION:Launch located on East side of Bay.  West on Yuba Park Rd off of US-31 dead end to launch.
SEQUENCE:0
STATUS:CONFIRMED
SUMMARY:WMB Tournament: Grand Traverse Bay - East (Yuba Park Rd)
TRANSP:OPAQUE
END:VEVENT
BEGIN:VEVENT
DTSTART:20170830T220000Z
DTEND:20170830T220000Z
DTSTAMP:20260423T090935Z
UID:0f4a497d-d6b5-40d7-b70e-7779338c101e
CREATED:20260423T090935Z
X-ALT-DESC;FMTTYPE=text/html:Lake Missaukee
LAST-MODIFIED:20260423T090935Z
LOCATION:Launch located near North East corner of lake.  Take M-66/Main St to W Broadway.
SEQUENCE:0
STATUS:CONFIRMED
SUMMARY:WMB Tournament: Lake Missaukee
TRANSP:OPAQUE
END:VEVENT
END:VCALENDAR
