BEGIN:VCALENDAR
PRODID:-//WestMichiganBass//Web//EN
VERSION:2.0
METHOD:PUBLISH
BEGIN:VEVENT
DTSTART:20160828T110000Z
DTEND:20160828T110000Z
DTSTAMP:20260422T120452Z
UID:267d2fe0-d6ce-4969-9470-b8603a6f123b
CREATED:20260422T120452Z
X-ALT-DESC;FMTTYPE=text/html:Fremont Lake
LAST-MODIFIED:20260422T120452Z
LOCATION:Fremont lake is locate off of M-82 directly south of the town of Fremont. Take M82 to W 64th St. The ramp is on the north side of the road in the township park.
SEQUENCE:0
STATUS:CONFIRMED
SUMMARY:WMB Tournament: Fremont Lake (South Launch)
TRANSP:OPAQUE
END:VEVENT
BEGIN:VEVENT
DTSTART:20160910T110000Z
DTEND:20160910T110000Z
DTSTAMP:20260422T120452Z
UID:d41fab06-e65d-4a2e-9be8-093c884c8d9f
CREATED:20260422T120452Z
X-ALT-DESC;FMTTYPE=text/html:Croton Pond
LAST-MODIFIED:20260422T120452Z
LOCATION:Take Swan Ave North off of Croton Dr
Located at Swan Ave and E 64th St right at The Croton Dam
SEQUENCE:0
STATUS:CONFIRMED
SUMMARY:WMB Tournament: Croton Pond
TRANSP:OPAQUE
END:VEVENT
BEGIN:VEVENT
DTSTART:20160917T110000Z
DTEND:20160917T110000Z
DTSTAMP:20260422T120452Z
UID:50a176b5-7f51-45c2-848d-af636a4c318e
CREATED:20260422T120452Z
X-ALT-DESC;FMTTYPE=text/html:Grand River
LAST-MODIFIED:20260422T120452Z
LOCATION:From Lake Michigan Drive - take 144th street north directly to ramp.
From 96 - take 68th Street south from the coopersville exit. Head west on Warner, continue NW on Bass Dr. Continue west on Osborn - turn west on Lincoln and finally North on 144th st.
SEQUENCE:0
STATUS:CONFIRMED
SUMMARY:WMB Tournament: Grand River (144th St  Stearns)
TRANSP:OPAQUE
END:VEVENT
BEGIN:VEVENT
DTSTART:20161008T113000Z
DTEND:20161008T113000Z
DTSTAMP:20260422T120452Z
UID:183670d9-8ecb-44bf-adfa-fac4c4417e6f
CREATED:20260422T120452Z
X-ALT-DESC;FMTTYPE=text/html:Hardy Pond
LAST-MODIFIED:20260422T120452Z
LOCATION:From US131 Exit 125 (Jefferson Rd)

Take Jefferson Rd West to S Beech Ave and follow S Beech to State Park
SEQUENCE:0
STATUS:CONFIRMED
SUMMARY:WMB Tournament: Hardy Dam Pond (Newaygo State Park)
TRANSP:OPAQUE
END:VEVENT
BEGIN:VEVENT
DTSTART:20161016T113000Z
DTEND:20161016T113000Z
DTSTAMP:20260422T120452Z
UID:468e3e9c-aece-49a9-af83-c13514bea69c
CREATED:20260422T120452Z
X-ALT-DESC;FMTTYPE=text/html:Muskegon Lake
LAST-MODIFIED:20260422T120452Z
LOCATION:Fisherman's landing is located off of Ottawa street. Take business 31 to Marquete Ave - west on Ottawa and South to ramp.
SEQUENCE:0
STATUS:CONFIRMED
SUMMARY:WMB Tournament: Muskegon Lake (Fishermans Landing)
TRANSP:OPAQUE
END:VEVENT
END:VCALENDAR
