BEGIN:VCALENDAR
PRODID:-//WestMichiganBass//Web//EN
VERSION:2.0
METHOD:PUBLISH
BEGIN:VEVENT
DTSTART:20260926T230000Z
DTEND:20260926T230000Z
DTSTAMP:20260423T183434Z
UID:c6ad9725-6922-4536-9ebe-401e7c2e1033
CREATED:20260423T183434Z
X-ALT-DESC;FMTTYPE=text/html:Houghton Lake
LAST-MODIFIED:20260423T183434Z
LOCATION:DNR Boat Launch Lakeview Park

M-55 east and south east to Town Line Rd north to launch.
SEQUENCE:0
STATUS:CONFIRMED
SUMMARY:WMB Tournament: Houghton Lake (South Launch)
TRANSP:OPAQUE
END:VEVENT
BEGIN:VEVENT
DTSTART:20260927T230000Z
DTEND:20260927T230000Z
DTSTAMP:20260423T183434Z
UID:1023e30f-2fbb-45ea-9e58-4e8efd0a33aa
CREATED:20260423T183434Z
X-ALT-DESC;FMTTYPE=text/html:Houghton Lake
LAST-MODIFIED:20260423T183434Z
LOCATION:DNR Boat Launch Lakeview Park

M-55 east and south east to Town Line Rd north to launch.
SEQUENCE:0
STATUS:CONFIRMED
SUMMARY:WMB Tournament: Houghton Lake (South Launch)
TRANSP:OPAQUE
END:VEVENT
END:VCALENDAR
