BEGIN:VCALENDAR
PRODID:-//WestMichiganBass//Web//EN
VERSION:2.0
METHOD:PUBLISH
BEGIN:VEVENT
DTSTART:20260530T110000Z
DTEND:20260530T110000Z
DTSTAMP:20260423T081533Z
UID:670b676e-ad30-4076-b5ba-198b3eba61e0
CREATED:20260423T081533Z
X-ALT-DESC;FMTTYPE=text/html:Lake Skegemog
LAST-MODIFIED:20260423T081533Z
LOCATION:
SEQUENCE:0
STATUS:CONFIRMED
SUMMARY:WMB Tournament: Lake Skegemog
TRANSP:OPAQUE
END:VEVENT
BEGIN:VEVENT
DTSTART:20260613T110000Z
DTEND:20260613T110000Z
DTSTAMP:20260423T081533Z
UID:b10a0cff-d2e7-4544-8c61-ce4678f72542
CREATED:20260423T081533Z
X-ALT-DESC;FMTTYPE=text/html:Walloon Lake
LAST-MODIFIED:20260423T081533Z
LOCATION:Launch located near the North East corner of the East Arm.  Take W Gruler Rd off of US-131 to launch.
SEQUENCE:0
STATUS:CONFIRMED
SUMMARY:WMB Tournament: Walloon Lake
TRANSP:OPAQUE
END:VEVENT
BEGIN:VEVENT
DTSTART:20260627T110000Z
DTEND:20260627T110000Z
DTSTAMP:20260423T081533Z
UID:9a8b9932-2415-4a01-be83-f0cc15fdd86c
CREATED:20260423T081533Z
X-ALT-DESC;FMTTYPE=text/html:Grand Traverse Bay - East (Yuba Park Rd)
LAST-MODIFIED:20260423T081533Z
LOCATION:Launch located on East side of Bay.  West on Yuba Park Rd off of US-31 dead end to launch.
SEQUENCE:0
STATUS:CONFIRMED
SUMMARY:WMB Tournament: Grand Traverse Bay - East (Yuba Park Rd)
TRANSP:OPAQUE
END:VEVENT
BEGIN:VEVENT
DTSTART:20260718T110000Z
DTEND:20260718T110000Z
DTSTAMP:20260423T081533Z
UID:4942667f-af8a-4d33-8e17-d12bc4fc4348
CREATED:20260423T081533Z
X-ALT-DESC;FMTTYPE=text/html:Lake Leelanau (Bingham Rd)
LAST-MODIFIED:20260423T081533Z
LOCATION:Bingham Twp Launch
SEQUENCE:0
STATUS:CONFIRMED
SUMMARY:WMB Tournament: Lake Leelanau (Bingham Rd)
TRANSP:OPAQUE
END:VEVENT
BEGIN:VEVENT
DTSTART:20260801T110000Z
DTEND:20260801T110000Z
DTSTAMP:20260423T081533Z
UID:b06b2ba3-833a-4ec0-8fc7-a3dbced72f29
CREATED:20260423T081533Z
X-ALT-DESC;FMTTYPE=text/html:Lake Charlevoix (Ironton)
LAST-MODIFIED:20260423T081533Z
LOCATION:Take M66 to 5th St (East) to Lake
SEQUENCE:0
STATUS:CONFIRMED
SUMMARY:WMB Tournament: Lake Charlevoix (Ironton)
TRANSP:OPAQUE
END:VEVENT
BEGIN:VEVENT
DTSTART:20260829T110000Z
DTEND:20260829T110000Z
DTSTAMP:20260423T081533Z
UID:4f447685-1d16-452b-9a3d-38bf74578256
CREATED:20260423T081533Z
X-ALT-DESC;FMTTYPE=text/html:Mullet Lake (DNR Launch)
LAST-MODIFIED:20260423T081533Z
LOCATION:Mullet Lake DNR Launch
SEQUENCE:0
STATUS:CONFIRMED
SUMMARY:WMB Tournament: Mullet Lake (DNR Launch)
TRANSP:OPAQUE
END:VEVENT
END:VCALENDAR
