BEGIN:VCALENDAR
PRODID:-//WestMichiganBass//Web//EN
VERSION:2.0
METHOD:PUBLISH
BEGIN:VEVENT
DTSTART:20250610T220000Z
DTEND:20250610T220000Z
DTSTAMP:20260423T095659Z
UID:126889a3-f760-4725-a2c4-24ee0bb3398c
CREATED:20260423T095659Z
X-ALT-DESC;FMTTYPE=text/html:Pickerel Chain
LAST-MODIFIED:20260423T095659Z
LOCATION:M-37 North from Newaygo, West on M-82, North on Evergreen Dr / Centerline Rd, West on Pickeral Lake Dr to launch.
SEQUENCE:0
STATUS:CONFIRMED
SUMMARY:WMB Tournament: Pickerel Chain
TRANSP:OPAQUE
END:VEVENT
BEGIN:VEVENT
DTSTART:20250617T220000Z
DTEND:20250617T220000Z
DTSTAMP:20260423T095659Z
UID:62174a55-c412-4c6a-8bdf-5bf8e5ab6f58
CREATED:20260423T095659Z
X-ALT-DESC;FMTTYPE=text/html:Grand River
LAST-MODIFIED:20260423T095659Z
LOCATION:Spring Lake, School St south of M104
SEQUENCE:0
STATUS:CONFIRMED
SUMMARY:WMB Tournament: Grand River (Mill Point)
TRANSP:OPAQUE
END:VEVENT
BEGIN:VEVENT
DTSTART:20250708T220000Z
DTEND:20250708T220000Z
DTSTAMP:20260423T095659Z
UID:a422a050-c939-4389-80bb-9400c75afb8e
CREATED:20260423T095659Z
X-ALT-DESC;FMTTYPE=text/html:Kalamazoo River
LAST-MODIFIED:20260423T095659Z
LOCATION:
SEQUENCE:0
STATUS:CONFIRMED
SUMMARY:WMB Tournament: Kalamazoo River (Schultz Park)
TRANSP:OPAQUE
END:VEVENT
BEGIN:VEVENT
DTSTART:20250715T220000Z
DTEND:20250715T220000Z
DTSTAMP:20260423T095659Z
UID:fbcecd66-dae8-4445-bd94-1d910503211d
CREATED:20260423T095659Z
X-ALT-DESC;FMTTYPE=text/html:Lake Mecosta
LAST-MODIFIED:20260423T095659Z
LOCATION:Located South West of Mecosta, MI
SEQUENCE:0
STATUS:CONFIRMED
SUMMARY:WMB Tournament: Lake Mecosta
TRANSP:OPAQUE
END:VEVENT
BEGIN:VEVENT
DTSTART:20250729T220000Z
DTEND:20250729T220000Z
DTSTAMP:20260423T095659Z
UID:fd01f55a-e186-482a-9ccc-ca8a2ee593a2
CREATED:20260423T095659Z
X-ALT-DESC;FMTTYPE=text/html:Lincoln Lake
LAST-MODIFIED:20260423T095659Z
LOCATION:
SEQUENCE:0
STATUS:CONFIRMED
SUMMARY:WMB Tournament: Lincoln Lake
TRANSP:OPAQUE
END:VEVENT
BEGIN:VEVENT
DTSTART:20250805T220000Z
DTEND:20250805T220000Z
DTSTAMP:20260423T095659Z
UID:895df6f1-3cba-452e-b602-cc16f0c02b4a
CREATED:20260423T095659Z
X-ALT-DESC;FMTTYPE=text/html:Big Whitefish Lake
LAST-MODIFIED:20260423T095659Z
LOCATION:Take 131 to Pierson Exit (110). West on 22mi Rd then North on Whitefish Rd just past southbound offramp. Take a right (East) on Stanton at 1st stop sign follow 90 degree turn onto Dagget (North). Lake St. will be to the West right were the trees begin. Follow Lake St. to the T at the lake, go Left to ramp.
SEQUENCE:0
STATUS:CONFIRMED
SUMMARY:WMB Tournament: Big Whitefish Lake
TRANSP:OPAQUE
END:VEVENT
BEGIN:VEVENT
DTSTART:20250816T110000Z
DTEND:20250816T110000Z
DTSTAMP:20260423T095659Z
UID:c57e8dbb-4c07-4773-a8de-0c7b0ed47009
CREATED:20260423T095659Z
X-ALT-DESC;FMTTYPE=text/html:Townline Lake
LAST-MODIFIED:20260423T095659Z
LOCATION:Townline Lake, near Lakeview MI
SEQUENCE:0
STATUS:CONFIRMED
SUMMARY:WMB Tournament: Townline Lake
TRANSP:OPAQUE
END:VEVENT
END:VCALENDAR
