BEGIN:VCALENDAR
PRODID:-//WestMichiganBass//Web//EN
VERSION:2.0
METHOD:PUBLISH
BEGIN:VEVENT
DTSTART:20250602T220000Z
DTEND:20250602T220000Z
DTSTAMP:20260423T095245Z
UID:56ca4b19-848f-4647-ace0-54203027b565
CREATED:20260423T095245Z
X-ALT-DESC;FMTTYPE=text/html:Muskegon Lake
LAST-MODIFIED:20260423T095245Z
LOCATION:Fisherman's landing is located off of Ottawa street. Take business 31 to Marquete Ave - west on Ottawa and South to ramp.
SEQUENCE:0
STATUS:CONFIRMED
SUMMARY:WMB Tournament: Muskegon Lake (Fishermans Landing)
TRANSP:OPAQUE
END:VEVENT
BEGIN:VEVENT
DTSTART:20250609T220000Z
DTEND:20250609T220000Z
DTSTAMP:20260423T095245Z
UID:aed9291f-2dc8-4376-9e02-e49852b739ea
CREATED:20260423T095245Z
X-ALT-DESC;FMTTYPE=text/html:White Lake
LAST-MODIFIED:20260423T095245Z
LOCATION:Take business 31 north of town, once you cross the river turn west at the stoplight on Water St.
SEQUENCE:0
STATUS:CONFIRMED
SUMMARY:WMB Tournament: White Lake (Montague)
TRANSP:OPAQUE
END:VEVENT
BEGIN:VEVENT
DTSTART:20250616T220000Z
DTEND:20250616T220000Z
DTSTAMP:20260423T095245Z
UID:d2be81aa-941d-4159-ac76-c7035e6d680e
CREATED:20260423T095245Z
X-ALT-DESC;FMTTYPE=text/html:Grand River
LAST-MODIFIED:20260423T095245Z
LOCATION:Spring Lake, School St south of M104
SEQUENCE:0
STATUS:CONFIRMED
SUMMARY:WMB Tournament: Grand River (Mill Point)
TRANSP:OPAQUE
END:VEVENT
BEGIN:VEVENT
DTSTART:20250623T220000Z
DTEND:20250623T220000Z
DTSTAMP:20260423T095245Z
UID:86e07f96-1073-4f37-84ac-f86dac14c779
CREATED:20260423T095245Z
X-ALT-DESC;FMTTYPE=text/html:Muskegon Lake
LAST-MODIFIED:20260423T095245Z
LOCATION:Fisherman's landing is located off of Ottawa street. Take business 31 to Marquete Ave - west on Ottawa and South to ramp.
SEQUENCE:0
STATUS:CONFIRMED
SUMMARY:WMB Tournament: Muskegon Lake (Fishermans Landing)
TRANSP:OPAQUE
END:VEVENT
BEGIN:VEVENT
DTSTART:20250630T220000Z
DTEND:20250630T220000Z
DTSTAMP:20260423T095245Z
UID:1e2a3920-650c-4a03-9bc4-d2a682fb9146
CREATED:20260423T095245Z
X-ALT-DESC;FMTTYPE=text/html:White Lake
LAST-MODIFIED:20260423T095245Z
LOCATION:Take business 31 north of town, once you cross the river turn west at the stoplight on Water St.
SEQUENCE:0
STATUS:CONFIRMED
SUMMARY:WMB Tournament: White Lake (Montague)
TRANSP:OPAQUE
END:VEVENT
BEGIN:VEVENT
DTSTART:20250707T220000Z
DTEND:20250707T220000Z
DTSTAMP:20260423T095245Z
UID:35850f63-42ce-432f-8a97-4913ac628f72
CREATED:20260423T095245Z
X-ALT-DESC;FMTTYPE=text/html:Grand River
LAST-MODIFIED:20260423T095245Z
LOCATION:Spring Lake, School St south of M104
SEQUENCE:0
STATUS:CONFIRMED
SUMMARY:WMB Tournament: Grand River (Mill Point)
TRANSP:OPAQUE
END:VEVENT
BEGIN:VEVENT
DTSTART:20250714T220000Z
DTEND:20250714T220000Z
DTSTAMP:20260423T095245Z
UID:ce9d859c-5756-4218-a263-36346755a64f
CREATED:20260423T095245Z
X-ALT-DESC;FMTTYPE=text/html:Muskegon Lake
LAST-MODIFIED:20260423T095245Z
LOCATION:Fisherman's landing is located off of Ottawa street. Take business 31 to Marquete Ave - west on Ottawa and South to ramp.
SEQUENCE:0
STATUS:CONFIRMED
SUMMARY:WMB Tournament: Muskegon Lake (Fishermans Landing)
TRANSP:OPAQUE
END:VEVENT
BEGIN:VEVENT
DTSTART:20250721T220000Z
DTEND:20250721T220000Z
DTSTAMP:20260423T095245Z
UID:7fcf320e-14e4-45cb-b600-a875b78381ef
CREATED:20260423T095245Z
X-ALT-DESC;FMTTYPE=text/html:White Lake
LAST-MODIFIED:20260423T095245Z
LOCATION:Take business 31 north of town, once you cross the river turn west at the stoplight on Water St.
SEQUENCE:0
STATUS:CONFIRMED
SUMMARY:WMB Tournament: White Lake (Montague)
TRANSP:OPAQUE
END:VEVENT
BEGIN:VEVENT
DTSTART:20250728T220000Z
DTEND:20250728T220000Z
DTSTAMP:20260423T095245Z
UID:07b1d4ff-bb68-4160-ac44-640806681352
CREATED:20260423T095245Z
X-ALT-DESC;FMTTYPE=text/html:Grand River
LAST-MODIFIED:20260423T095245Z
LOCATION:Spring Lake, School St south of M104
SEQUENCE:0
STATUS:CONFIRMED
SUMMARY:WMB Tournament: Grand River (Mill Point)
TRANSP:OPAQUE
END:VEVENT
BEGIN:VEVENT
DTSTART:20250804T220000Z
DTEND:20250804T220000Z
DTSTAMP:20260423T095245Z
UID:a2e6c3dc-f1b1-4908-9a51-8566ea90bcc2
CREATED:20260423T095245Z
X-ALT-DESC;FMTTYPE=text/html:Muskegon Lake
LAST-MODIFIED:20260423T095245Z
LOCATION:Fisherman's landing is located off of Ottawa street. Take business 31 to Marquete Ave - west on Ottawa and South to ramp.
SEQUENCE:0
STATUS:CONFIRMED
SUMMARY:WMB Tournament: Muskegon Lake (Fishermans Landing)
TRANSP:OPAQUE
END:VEVENT
BEGIN:VEVENT
DTSTART:20250811T220000Z
DTEND:20250811T220000Z
DTSTAMP:20260423T095245Z
UID:99cb757d-a24a-44d3-9585-d63bb5d32503
CREATED:20260423T095245Z
X-ALT-DESC;FMTTYPE=text/html:White Lake
LAST-MODIFIED:20260423T095245Z
LOCATION:Take business 31 north of town, once you cross the river turn west at the stoplight on Water St.
SEQUENCE:0
STATUS:CONFIRMED
SUMMARY:WMB Tournament: White Lake (Montague)
TRANSP:OPAQUE
END:VEVENT
BEGIN:VEVENT
DTSTART:20250818T220000Z
DTEND:20250818T220000Z
DTSTAMP:20260423T095245Z
UID:2c76028a-f02c-4725-b4db-5d6fbeab46bf
CREATED:20260423T095245Z
X-ALT-DESC;FMTTYPE=text/html:Muskegon Lake
LAST-MODIFIED:20260423T095245Z
LOCATION:Fisherman's landing is located off of Ottawa street. Take business 31 to Marquete Ave - west on Ottawa and South to ramp.
SEQUENCE:0
STATUS:CONFIRMED
SUMMARY:WMB Tournament: Muskegon Lake (Fishermans Landing)
TRANSP:OPAQUE
END:VEVENT
END:VCALENDAR
